{"text_format":"1","workbook":"xlsx","n_sheets":9,"sheets":["マクロチェック","音源使用許諾申請書","記入例","都道府県","使用目的","申請者","大会情報","音源情報","映像作品"],"not_rendered":{"charts":0,"images":2,"macros":1,"external_links":0,"defined_names":2,"comments":1,"pivot_tables":0},"unopened":[],"bounds":{"document_bytes":16777216,"sheet_cells":100000,"rows_first":2000,"rows_last":500,"rows_between":2000,"halvings":0,"cell_chars":16384,"cell_head_chars":4096},"cells_cut":0,"cells_raw":0,"read":"whole","date_system":"1900"}

{"sheet":"マクロチェック","index":0,"n_rows":4,"n_cols":2,"rows_kept":4,"cut":false,"hidden":false,"merged":[]}
[]
[null,"マクロが有効になっていないため、申請書を開くことができません。"]
[]
[null,"上部に「コンテンツの有効化」ボタンが表示されている場合は、ボタンを押下してください。\nそれによりマクロが有効化され、申請書が開きます。\n\n「コンテンツの有効化」ボタンが表示されていない場合は、ホームページ掲載の\n「音源使用許諾申請書ご利用手順」をご確認いただき、マクロを有効にしてください。"]

{"sheet":"音源使用許諾申請書","index":1,"n_rows":35,"n_cols":17,"rows_kept":35,"cut":false,"hidden":true,"merged":[[20,5,20,7],[21,5,21,7],[3,6,3,7],[4,6,4,7],[10,7,11,7],[10,15,11,15],[10,16,11,16],[10,0,11,1],[35,0,35,16],[33,0,33,16],[13,0,13,1],[14,0,14,1],[11,2,11,6],[12,2,12,6],[13,2,13,6],[14,2,14,6],[7,11,7,13],[7,14,7,16],[7,9,7,10],[9,10,9,16],[10,13,11,14],[10,2,10,6],[18,0,18,4],[15,0,15,1],[16,2,16,6],[18,8,19,9],[13,8,13,9],[14,8,14,9],[15,8,15,9],[16,8,16,9],[7,0,7,4],[9,0,9,4],[12,0,12,1],[7,6,7,7],[10,8,11,9],[12,8,12,9],[1,17,1,18],[9,5,9,9],[18,16,19,16],[0,0,0,16],[1,15,1,16],[2,0,2,16],[5,5,5,13],[6,5,6,13],[3,0,4,4],[5,0,5,4],[6,0,6,4],[1,0,1,10],[3,8,3,16],[4,8,4,16],[5,15,5,16],[6,15,6,16],[8,0,8,16],[11,11,11,12],[10,10,10,12],[15,2,15,6],[18,15,19,15],[18,14,19,14],[12,13,12,14],[12,11,12,12],[13,11,13,12],[14,11,14,12],[15,11,15,12],[16,11,16,12],[17,0,17,16],[26,5,26,7],[25,12,25,13],[26,12,26,13],[23,8,23,9],[26,8,26,9],[24,8,24,9],[25,8,25,9],[18,12,19,13],[20,12,20,13],[21,12,21,13],[20,8,20,9],[21,8,21,9],[13,13,13,14],[14,13,14,14],[15,13,15,14],[16,13,16,14],[18,11,19,11],[16,0,16,1],[18,5,19,7],[29,0,29,4],[30,0,30,4],[31,0,31,4],[29,5,29,16],[30,5,30,16],[31,5,31,16],[27,12,27,13],[27,5,27,7],[22,8,22,9],[28,0,28,16],[22,12,22,13],[23,12,23,13],[24,12,24,13],[27,8,27,9],[22,5,22,7],[23,5,23,7],[24,5,24,7],[25,5,25,7]]}
["音源使用許諾申請書"]
["一般社団法人日本レコード協会 　御中",null,null,null,null,null,null,null,null,null,null,null,null,null,"申請日：","2017-03-23T13:55:22"]
["音源使用許諾申請に係る同意事項に同意の上、下記の通り申請します。"]
["所在地",null,null,null,null,"郵便番号","都道府県",null,"郡市区町村以下"]
[]
["学校・団体名",null,null,null,null,null,null,null,null,null,null,null,null,null,"代表者名"]
["申請担当部署",null,null,null,null,null,null,null,null,null,null,null,null,null,"担当者名"]
["連絡先",null,null,null,null,"TEL",null,null,"FAX",null,null,"E-mail"]
[]
["使用目的",null,null,null,null,"（選択してください。）",null,null,null,null,"にレコードを録音して使用するため"]
["大会\n番号",null,"大会名",null,null,null,null,"本選/\n最終","部門名",null,"開催日",null,null,"会場名",null,"録音録画数\n（枚・本）","録音録画物\nの種類"]
[null,null,"※出場可能性のある大会は予選・本選別にすべてご記入ください。",null,null,null,null,null,null,null,"開始日","終了日"]
[1]
[2]
[3]
[4]
[5]
["使用希望音源情報　　※１トラック１行で入力し、使用大会番号にチェックを入れてください。自動的に改行される場合を除き、改行しないでください。"]
["使用大会番号",null,null,null,null,"音源タイトル（曲名）",null,null,"CD（アルバム）\nタイトル",null,"商品番号","トラック\n番号","アーティスト名",null,"レコード会社\n（発売元）","１音源の\n使用時間\n（時:分:秒）","１音源の\n総時間\n（時:分:秒）"]
[1,2,3,4,5,null,null,null,null,null,"（例：RJCD-1234/5）"]
[]
[]
[]
[]
[]
[]
[]
[]
["NHK杯作品の場合の作品情報"]
["タイトル"]
["テーマ"]
["どのようなシーンで\n音源を使用するか"]
["連絡したいことなどありましたらご記入ください"]
[]
["事務局使用欄"]

{"sheet":"記入例","index":2,"n_rows":42,"n_cols":18,"rows_kept":42,"cut":false,"hidden":false,"merged":[[36,0,36,4],[37,0,37,4],[38,0,38,4],[28,8,28,9],[28,12,28,13],[33,5,33,7],[33,8,33,9],[33,12,33,13],[34,5,34,7],[34,8,34,9],[34,12,34,13],[31,5,31,7],[31,8,31,9],[31,12,31,13],[32,5,32,7],[32,8,32,9],[32,12,32,13],[23,0,23,1],[23,2,23,6],[23,8,23,9],[23,11,23,12],[23,13,23,14],[25,17,38,17],[25,0,25,4],[25,5,26,7],[25,8,26,9],[25,11,26,11],[25,12,26,13],[25,14,26,14],[25,15,26,15],[25,16,26,16],[29,5,29,7],[29,8,29,9],[29,12,29,13],[30,5,30,7],[30,8,30,9],[30,12,30,13],[27,5,27,7],[27,8,27,9],[27,12,27,13],[28,5,28,7],[21,0,21,1],[21,2,21,6],[21,8,21,9],[21,11,21,12],[21,13,21,14],[22,0,22,1],[22,2,22,6],[22,8,22,9],[22,11,22,12],[22,13,22,14],[19,2,19,6],[19,8,19,9],[19,11,19,12],[19,13,19,14],[20,0,20,1],[20,2,20,6],[20,8,20,9],[20,11,20,12],[20,13,20,14],[14,0,14,16],[10,8,10,16],[11,0,11,4],[11,5,11,13],[11,15,11,16],[12,0,12,4],[12,5,12,13],[12,15,12,16],[15,17,23,17],[15,0,16,4],[16,5,16,9],[15,10,16,16],[15,5,15,9],[17,0,18,1],[17,2,17,6],[17,7,18,7],[17,8,18,9],[17,10,17,12],[17,13,18,14],[17,15,18,15],[17,16,18,16],[18,2,18,6],[18,11,18,12],[19,0,19,1],[7,18,7,19],[8,0,8,16],[9,17,13,17],[9,0,10,4],[9,6,9,7],[9,8,9,16],[10,6,10,7],[13,0,13,4],[13,6,13,7],[13,9,13,10],[13,11,13,13],[13,14,13,16],[0,0,0,16],[5,0,5,14],[1,0,1,16],[2,0,2,16],[3,0,3,16],[4,0,4,16],[6,0,6,16],[7,0,7,10],[7,15,7,16]]}
["※　音源使用許諾申請書　記載上の注意　※　"]
["下記の記載例をご参考の上、当協会HP内専用サイト（http://www.riaj.or.jp/f/leg/rec_license/）よりご申請ください。"]
["HP記載事項について必ずご確認いただき、ご同意の上、ご申請ください。"]
["＜許諾料（税抜）＞\n① 邦盤（国内のレコード製作者が著作隣接権を有するレコード）：１催事あたり、１曲5,000円\n② 洋盤（外国のレコード製作者が著作隣接権を有するレコード）：１催事あたり、１曲50,000円以下で委託者が指定する額"]
["※当協会HP内専用サイトに『使用料規程（抜粋）』を掲載済"]
[]
["音源使用許諾申請書（記入例）"]
["一般社団法人日本レコード協会 　御中",null,null,null,null,null,null,null,null,null,null,null,null,null,"申請日："]
["音源使用許諾申請に係る同意事項に同意の上、下記の通り申請します。"]
["所在地",null,null,null,null,"郵便番号","都道府県",null,"郡市区町村以下",null,null,null,null,null,null,null,null,"申請者の情報"]
[null,null,null,null,null,"105-0001","東京都",null,"港区虎ノ門○-○-○"]
["学校・団体名",null,null,null,null,"○○",null,null,null,null,null,null,null,null,"代表者名","○○　○○"]
["申請担当部署",null,null,null,null,"○○",null,null,null,null,null,null,null,null,"担当者名","△△　△△"]
["連絡先",null,null,null,null,"TEL","03-xxxx-xxxx",null,"FAX","03-xxxx-xxxx",null,"E-mail"]
[]
["使用目的",null,null,null,null,"NHK杯放送コンテストへの応募のため",null,null,null,null,"にレコードを録音して使用するため",null,null,null,null,null,null,"大会の情報"]
[null,null,null,null,null,"以下の大会・イベント出場のため、会場内演奏用"]
["大会\n番号",null,"大会名",null,null,null,null,"本選/\n最終","部門名",null,"開催日",null,null,"会場名",null,"録音録画数\n（枚・本）","録音録画物\nの種類"]
[null,null,"※出場可能性のある大会は予選・本選別にすべてご記入ください。",null,null,null,null,null,null,null,"開始日","終了日"]
[1,null,"○○大会",null,null,null,null,"□","○○部門",null,"2016-09-01","2016-09-01",null,"○○体育館"]
[2,null,"△△大会",null,null,null,null,"☑",null,null,"2016-10-05","2016-10-07",null,"△△ホール",null,1,"CD-R"]
[3,null,null,null,null,null,null,"□"]
[4,null,null,null,null,null,null,"□"]
[5,null,null,null,null,null,null,"□"]
["使用希望音源情報　　※１トラック１行で入力し、使用大会番号にチェックを入れてください。自動的に改行される場合を除き、改行しないでください。"]
["使用大会番号",null,null,null,null,"音源タイトル（曲名）",null,null,"CD（アルバム）\nタイトル",null,"商品番号","トラック\n番号","アーティスト名",null,"レコード会社\n（発売元）","１音源の\n使用時間\n（時:分:秒）","１音源の\n総時間\n（時:分:秒）","使用希望音源の情報"]
[1,2,3,4,5,null,null,null,null,null,"（例：RJCD-1234/5）"]
["☑","☑","□","□","□","○○",null,null,"△△",null,"ABCD-1234",1,"□□",null,null,"00:03:00","00:03:45"]
["☑","☑","□","□","□","●●",null,null,"▲▲",null,"EFGH-5678/9",2,"■■",null,null,"00:01:30","00:05:30"]
["□","□","□","□","□"]
["□","□","□","□","□"]
["□","□","□","□","□"]
["□","□","□","□","□"]
["□","□","□","□","□"]
["□","□","□","□","□"]
["NHK杯作品の場合の作品情報"]
["タイトル"]
["テーマ"]
["どのようなシーンで\n音源を使用するか"]
["連絡したいことなどありましたらご記入ください"]
[]
["事務局使用欄"]

{"sheet":"都道府県","index":3,"n_rows":47,"n_cols":1,"rows_kept":47,"cut":false,"hidden":true,"merged":[]}
["北海道"]
["青森県"]
["岩手県"]
["宮城県"]
["秋田県"]
["山形県"]
["福島県"]
["茨城県"]
["栃木県"]
["群馬県"]
["埼玉県"]
["千葉県"]
["東京都"]
["神奈川県"]
["新潟県"]
["富山県"]
["石川県"]
["福井県"]
["山梨県"]
["長野県"]
["岐阜県"]
["静岡県"]
["愛知県"]
["三重県"]
["滋賀県"]
["京都府"]
["大阪府"]
["兵庫県"]
["奈良県"]
["和歌山県"]
["鳥取県"]
["島根県"]
["岡山県"]
["広島県"]
["山口県"]
["徳島県"]
["香川県"]
["愛媛県"]
["高知県"]
["福岡県"]
["佐賀県"]
["長崎県"]
["熊本県"]
["大分県"]
["宮崎県"]
["鹿児島県"]
["沖縄県"]

{"sheet":"使用目的","index":4,"n_rows":3,"n_cols":2,"rows_kept":3,"cut":false,"hidden":true,"merged":[]}
["（選択してください。）"]
["NHK杯放送コンテストへの応募のため",1]
["以下の大会・イベント出場のため、会場内演奏用",2]

{"sheet":"申請者","index":5,"n_rows":2,"n_cols":13,"rows_kept":2,"cut":false,"hidden":true,"merged":[]}
["郵便番号","都道府県","住所","団体名","代表者名","部署名","担当者名","TEL","FAX","Email","目的ID","連絡事項","申請日"]
[{"$f":"音源使用許諾申請書!F5","v":0},{"$f":"音源使用許諾申請書!G5","v":0},{"$f":"音源使用許諾申請書!I5","v":0},{"$f":"音源使用許諾申請書!F6","v":0},{"$f":"音源使用許諾申請書!P6","v":0},{"$f":"音源使用許諾申請書!F7","v":0},{"$f":"音源使用許諾申請書!P7","v":0},{"$f":"音源使用許諾申請書!G8","v":0},{"$f":"音源使用許諾申請書!J8","v":0},{"$f":"音源使用許諾申請書!O8","v":0},{"$f":"VLOOKUP(音源使用許諾申請書!F10,使用目的!$A$2:$B$3,2,FALSE)","v":{"$error":"#N/A"}},{"$f":"音源使用許諾申請書!A34","v":0},{"$f":"音源使用許諾申請書!P2","v":"2017-03-23T13:55:22"}]

{"sheet":"大会情報","index":6,"n_rows":6,"n_cols":9,"rows_kept":6,"cut":false,"hidden":true,"merged":[]}
["大会番号","大会名","本選","部門名","開始日","終了日","会場名","複製数","媒体名"]
[{"$f":"音源使用許諾申請書!A13","v":1},{"$f":"IF(ISBLANK(音源使用許諾申請書!C13),\"\",音源使用許諾申請書!C13)","v":""},0,{"$f":"IF(ISBLANK(音源使用許諾申請書!I13),\"\",音源使用許諾申請書!I13)","v":""},{"$f":"音源使用許諾申請書!K13","v":"00:00:00"},{"$f":"音源使用許諾申請書!L13","v":"00:00:00"},{"$f":"音源使用許諾申請書!N13","v":0},{"$f":"音源使用許諾申請書!P13","v":0},{"$f":"音源使用許諾申請書!Q13","v":0}]
[{"$f":"音源使用許諾申請書!A14","v":2},{"$f":"IF(ISBLANK(音源使用許諾申請書!C14),\"\",音源使用許諾申請書!C14)","v":""},0,{"$f":"IF(ISBLANK(音源使用許諾申請書!I14),\"\",音源使用許諾申請書!I14)","v":""},{"$f":"音源使用許諾申請書!K14","v":"00:00:00"},{"$f":"音源使用許諾申請書!L14","v":"00:00:00"},{"$f":"音源使用許諾申請書!N14","v":0},{"$f":"音源使用許諾申請書!P14","v":0},{"$f":"音源使用許諾申請書!Q14","v":0}]
[{"$f":"音源使用許諾申請書!A15","v":3},{"$f":"IF(ISBLANK(音源使用許諾申請書!C15),\"\",音源使用許諾申請書!C15)","v":""},0,{"$f":"IF(ISBLANK(音源使用許諾申請書!I15),\"\",音源使用許諾申請書!I15)","v":""},{"$f":"音源使用許諾申請書!K15","v":"00:00:00"},{"$f":"音源使用許諾申請書!L15","v":"00:00:00"},{"$f":"音源使用許諾申請書!N15","v":0},{"$f":"音源使用許諾申請書!P15","v":0},{"$f":"音源使用許諾申請書!Q15","v":0}]
[{"$f":"音源使用許諾申請書!A16","v":4},{"$f":"IF(ISBLANK(音源使用許諾申請書!C16),\"\",音源使用許諾申請書!C16)","v":""},0,{"$f":"IF(ISBLANK(音源使用許諾申請書!I16),\"\",音源使用許諾申請書!I16)","v":""},{"$f":"音源使用許諾申請書!K16","v":"00:00:00"},{"$f":"音源使用許諾申請書!L16","v":"00:00:00"},{"$f":"音源使用許諾申請書!N16","v":0},{"$f":"音源使用許諾申請書!P16","v":0},{"$f":"音源使用許諾申請書!Q16","v":0}]
[{"$f":"音源使用許諾申請書!A17","v":5},{"$f":"IF(ISBLANK(音源使用許諾申請書!C17),\"\",音源使用許諾申請書!C17)","v":""},0,{"$f":"IF(ISBLANK(音源使用許諾申請書!I17),\"\",音源使用許諾申請書!I17)","v":""},{"$f":"音源使用許諾申請書!K17","v":"00:00:00"},{"$f":"音源使用許諾申請書!L17","v":"00:00:00"},{"$f":"音源使用許諾申請書!N17","v":0},{"$f":"音源使用許諾申請書!P17","v":0},{"$f":"音源使用許諾申請書!Q17","v":0}]

{"sheet":"音源情報","index":7,"n_rows":10,"n_cols":13,"rows_kept":10,"cut":false,"hidden":true,"merged":[]}
["大会1","大会2","大会3","大会4","大会5","音源タイトル","CDタイトル","商品番号","トラック番号","アーティスト名","レコード会社","使用時間","総時間"]
[false,false,false,false,false,{"$f":"IF(ISBLANK(音源使用許諾申請書!F21),\"\",音源使用許諾申請書!F21)","v":""},{"$f":"音源使用許諾申請書!I21","v":0},{"$f":"音源使用許諾申請書!K21","v":0},{"$f":"音源使用許諾申請書!L21","v":0},{"$f":"音源使用許諾申請書!M21","v":0},{"$f":"音源使用許諾申請書!O21","v":0},{"$f":"音源使用許諾申請書!P21","v":0},{"$f":"音源使用許諾申請書!Q21","v":0}]
[false,false,false,false,false,{"$f":"IF(ISBLANK(音源使用許諾申請書!F22),\"\",音源使用許諾申請書!F22)","v":""},{"$f":"音源使用許諾申請書!I22","v":0},{"$f":"音源使用許諾申請書!K22","v":0},{"$f":"音源使用許諾申請書!L22","v":0},{"$f":"音源使用許諾申請書!M22","v":0},{"$f":"音源使用許諾申請書!O22","v":0},{"$f":"音源使用許諾申請書!P22","v":0},{"$f":"音源使用許諾申請書!Q22","v":0}]
[false,false,false,false,false,{"$f":"IF(ISBLANK(音源使用許諾申請書!F23),\"\",音源使用許諾申請書!F23)","v":""},{"$f":"音源使用許諾申請書!I23","v":0},{"$f":"音源使用許諾申請書!K23","v":0},{"$f":"音源使用許諾申請書!L23","v":0},{"$f":"音源使用許諾申請書!M23","v":0},{"$f":"音源使用許諾申請書!O23","v":0},{"$f":"音源使用許諾申請書!P23","v":0},{"$f":"音源使用許諾申請書!Q23","v":0}]
[false,false,false,false,false,{"$f":"IF(ISBLANK(音源使用許諾申請書!F24),\"\",音源使用許諾申請書!F24)","v":""},{"$f":"音源使用許諾申請書!I24","v":0},{"$f":"音源使用許諾申請書!K24","v":0},{"$f":"音源使用許諾申請書!L24","v":0},{"$f":"音源使用許諾申請書!M24","v":0},{"$f":"音源使用許諾申請書!O24","v":0},{"$f":"音源使用許諾申請書!P24","v":0},{"$f":"音源使用許諾申請書!Q24","v":0}]
[false,false,false,false,false,{"$f":"IF(ISBLANK(音源使用許諾申請書!F25),\"\",音源使用許諾申請書!F25)","v":""},{"$f":"音源使用許諾申請書!I25","v":0},{"$f":"音源使用許諾申請書!K25","v":0},{"$f":"音源使用許諾申請書!L25","v":0},{"$f":"音源使用許諾申請書!M25","v":0},{"$f":"音源使用許諾申請書!O25","v":0},{"$f":"音源使用許諾申請書!P25","v":0},{"$f":"音源使用許諾申請書!Q25","v":0}]
[false,false,false,false,false,{"$f":"IF(ISBLANK(音源使用許諾申請書!F26),\"\",音源使用許諾申請書!F26)","v":""},{"$f":"音源使用許諾申請書!I26","v":0},{"$f":"音源使用許諾申請書!K26","v":0},{"$f":"音源使用許諾申請書!L26","v":0},{"$f":"音源使用許諾申請書!M26","v":0},{"$f":"音源使用許諾申請書!O26","v":0},{"$f":"音源使用許諾申請書!P26","v":0},{"$f":"音源使用許諾申請書!Q26","v":0}]
[false,false,false,false,false,{"$f":"IF(ISBLANK(音源使用許諾申請書!F27),\"\",音源使用許諾申請書!F27)","v":""},{"$f":"音源使用許諾申請書!I27","v":0},{"$f":"音源使用許諾申請書!K27","v":0},{"$f":"音源使用許諾申請書!L27","v":0},{"$f":"音源使用許諾申請書!M27","v":0},{"$f":"音源使用許諾申請書!O27","v":0},{"$f":"音源使用許諾申請書!P27","v":0},{"$f":"音源使用許諾申請書!Q27","v":0}]
[false,false,false,false,false,{"$f":"IF(ISBLANK(音源使用許諾申請書!F28),\"\",音源使用許諾申請書!F28)","v":""},{"$f":"音源使用許諾申請書!I28","v":0},{"$f":"音源使用許諾申請書!K28","v":0},{"$f":"音源使用許諾申請書!L28","v":0},{"$f":"音源使用許諾申請書!M28","v":0},{"$f":"音源使用許諾申請書!O28","v":0},{"$f":"音源使用許諾申請書!P28","v":0},{"$f":"音源使用許諾申請書!Q28","v":0}]
[{"$f":"COUNTIF(A2:A9,TRUE)","v":0},{"$f":"COUNTIF(B2:B9,TRUE)","v":0},0,0,0]

{"sheet":"映像作品","index":8,"n_rows":2,"n_cols":3,"rows_kept":2,"cut":false,"hidden":true,"merged":[]}
["タイトル","テーマ","使用シーン"]
[{"$f":"IF(ISBLANK(音源使用許諾申請書!F30),\"\",音源使用許諾申請書!F30)","v":""},{"$f":"音源使用許諾申請書!F31","v":0},{"$f":"音源使用許諾申請書!F32","v":0}]